BEGIN:VCALENDAR
VERSION:2.0
CALSCALE:GREGORIAN
PRODID:adamgibbons/ics
METHOD:PUBLISH
X-PUBLISHED-TTL:PT1H
BEGIN:VEVENT
UID:3838@lapunta.org
SUMMARY:CONTATTO
DTSTAMP:20260423T155935Z
DTSTART:20240525T090000Z
DTEND:20240526T215500Z
DESCRIPTION:Brigata Basaglia organizza “CONTATTO” a FIRENZE\n\nsabato 25 e 
	domenica 26 maggio alla Casa del Popolo Le Panche in Via Giulio\nCaccini\,
	 13b\n\nUna due giorni per parlare di pratiche di resistenza e liberazione
	 per la\n“salute mentale”.\n\nDue giornate di tavoli\, laboratori\, scambi
	 di idee\, creazione di connessioni\,\nmusica e spettacoli.\n\nSi discuter
	à di salute mentale\, di cura\, di lotta e di comunità\, dando spazio\nagl
	i intrecci che questi temi hanno con il lavoro\, il carcere e i cpr\, la\n
	scuola\, le istituzioni e i servizi sanitari\, l’ecologia\, l’intelligenza
	\nartificiale e molto altro.\n\nCome Collettivo Antipsichiatrico Antonin A
	rtaud saremo presenti ai tavoli sabato\n25/05\n\nSABATO 25 MAGGIO\n\n11.00
	 Introduzione al festival\, a 100 anni dalla nascita di Franco Basaglia\n\
	n11.30 Tavolo: Vecchie e nuove istituzioni: i dispositivi del controllo so
	ciale\n\nNicola Valentino (Sensibili alle foglie)\, Collettivo Antipsichia
	trico Antonin\nArtaud\, Vito D’Anza (ex DSM Pistoia)\, Caterina Pesce (aut
	rice “Pratiche di\nLiberazione”)\, Emanuela Bavazzano (Medicina democratic
	a)\, Abbatto i Muri\n\n15.30 Tavolo: Carcere e CPR: i luoghi della disuman
	izzazione con SenzaNumero\,\nCollettivo Antipsichiatrico Antonin Artaud\, 
	Rete No CPR – Mai più lager\,\nLasciateCIentrare\, Beppe Battaglia (volont
	ario penitenziario)\n\n17.30 Tavolo: La scuola oltre l’omologazione con Co
	llettivo Antipsichiatrico\nAntonin Artaud\, Giuseppe Dambrosio (filosofo e
	 pedagogista)\, UDS\, SDS\,\nOsservatorio Antimilitarizzazione\n\n18.00 La
	boratorio di Pratiche dialogiche\n\nPer il programma completo e info sulla
	 due giorni:\n\n\n\nhttps://www.brigatabasaglia.org/2024/04/14/contatto-20
	24-firenze/\n[https://www.brigatabasaglia.org/2024/04/14/contatto-2024-fir
	enze/]
URL:https://lapunta.org/event/contatto
LOCATION:circolo "il campino" Firenze Rifredi - Via Caccini -Rifredi Firenz
	e -
STATUS:CONFIRMED
CATEGORIES:BRIGATA BASAGLIA,Collettivo Antipsichiatrico Antonin Artaud,Fire
	nze,antipsichiatria
X-ALT-DESC;FMTTYPE=text/html:<p>Brigata Basaglia  organizza “CONTATTO” a FI
	RENZE  </p><p>sabato 25 e domenica 26 maggio alla Casa del Popolo Le Panch
	e in Via Giulio Caccini, 13b </p><p>Una due giorni per parlare di pratiche
	 di resistenza e liberazione per la “salute mentale”. </p><p>Due giornate 
	di tavoli, laboratori, scambi di idee, creazione di connessioni, musica e 
	spettacoli.</p><p>Si discuterà di salute mentale, di cura, di lotta e di c
	omunità, dando spazio agli intrecci che questi temi hanno con il lavoro, i
	l carcere e i cpr, la scuola, le istituzioni e i servizi sanitari, l’ecolo
	gia, l’intelligenza artificiale e molto altro. </p><p>Come Collettivo Anti
	psichiatrico Antonin Artaud saremo presenti ai tavoli sabato 25/05 </p><p>
	SABATO 25 MAGGIO</p><p>11.00 Introduzione al festival, a 100 anni dalla na
	scita di Franco Basaglia</p><p>11.30 Tavolo: Vecchie e nuove istituzioni: 
	i dispositivi del controllo sociale</p><p>Nicola Valentino (Sensibili alle
	 foglie), Collettivo Antipsichiatrico Antonin Artaud, Vito D’Anza (ex DSM 
	Pistoia), Caterina Pesce (autrice “Pratiche di Liberazione”), Emanuela Bav
	azzano (Medicina democratica), Abbatto i Muri</p><p>15.30 Tavolo: Carcere 
	e CPR: i luoghi della disumanizzazione con SenzaNumero, Collettivo Antipsi
	chiatrico Antonin Artaud, Rete No CPR – Mai più lager, LasciateCIentrare, 
	Beppe Battaglia (volontario penitenziario)</p><p>17.30 Tavolo: La scuola o
	ltre l’omologazione con Collettivo Antipsichiatrico Antonin Artaud, Giusep
	pe Dambrosio (filosofo e pedagogista), UDS, SDS, Osservatorio Antimilitari
	zzazione</p><p>18.00 Laboratorio di Pratiche dialogiche</p><p>Per il progr
	amma completo e info sulla due giorni:</p><p> </p><p><a href="https://www.
	brigatabasaglia.org/2024/04/14/contatto-2024-firenze/" target="_blank">htt
	ps://www.brigatabasaglia.org/2024/04/14/contatto-2024-firenze/</a></p>
END:VEVENT
END:VCALENDAR
